BEGIN:VCALENDAR
VERSION:2.0
PRODID:-//Bill Chadwick - ECPv6.15.20//NONSGML v1.0//EN
CALSCALE:GREGORIAN
METHOD:PUBLISH
X-ORIGINAL-URL:https://billchadwick.com
X-WR-CALDESC:Events for Bill Chadwick
REFRESH-INTERVAL;VALUE=DURATION:PT1H
X-Robots-Tag:noindex
X-PUBLISHED-TTL:PT1H
BEGIN:VTIMEZONE
TZID:America/Chicago
BEGIN:DAYLIGHT
TZOFFSETFROM:-0600
TZOFFSETTO:-0500
TZNAME:CDT
DTSTART:20230312T080000
END:DAYLIGHT
BEGIN:STANDARD
TZOFFSETFROM:-0500
TZOFFSETTO:-0600
TZNAME:CST
DTSTART:20231105T070000
END:STANDARD
BEGIN:DAYLIGHT
TZOFFSETFROM:-0600
TZOFFSETTO:-0500
TZNAME:CDT
DTSTART:20240310T080000
END:DAYLIGHT
BEGIN:STANDARD
TZOFFSETFROM:-0500
TZOFFSETTO:-0600
TZNAME:CST
DTSTART:20241103T070000
END:STANDARD
BEGIN:DAYLIGHT
TZOFFSETFROM:-0600
TZOFFSETTO:-0500
TZNAME:CDT
DTSTART:20250309T080000
END:DAYLIGHT
BEGIN:STANDARD
TZOFFSETFROM:-0500
TZOFFSETTO:-0600
TZNAME:CST
DTSTART:20251102T070000
END:STANDARD
END:VTIMEZONE
BEGIN:VEVENT
DTSTART;TZID=America/Chicago:20240829T200000
DTEND;TZID=America/Chicago:20240829T220000
DTSTAMP:20260424T113009
CREATED:20240518T005858Z
LAST-MODIFIED:20240705T233547Z
UID:2033-1724961600-1724968800@billchadwick.com
SUMMARY:Excelsior 318 Cafe
DESCRIPTION:Tickets for my gig at Excelsior 318 Cafe and Music Bar are sold out but you can be added to the waitlist.  318 Water Street\, Excelsior\, Thursday\, August 29. Show starts at 8 PM. Dinner available starting at 6 (but you can order right up until 7:45\, I believe.) Please eat up. That’s how they make their money. They were very happy with the audience last time I was there. 🙂\n\nI will once again be sharing the stage with the amazing Monica Livorsi\, a young singer-songwriter who is taking the Twin Cities by storm.  (monicalivorsi.com)\n\nI am contemplating retirement\, so this may be my final performance as a professional storyteller. Not a threat\, nor a promise\, and not for sure\, but this grandpa gig is pretty fulfilling…\n\nIt’s a sweet\, intimate venue.  Never any pressure to attend\, of course\, but if you do plan to\, don’t wait to buy tickets. Last time tickets sold out in four days.\n\nI appreciate all your support over the past few years.\n\nPOSSIBLE SECOND SHOW AT EXCELSIOR 318! The August 29 date with the amazing Monica Livorsi is already sold out. If enough people join the waitlist\, a second show will be added on a nearby date.\n\n\nTicket/waitlist link is below:\n\n\nBill Chadwick & Monica Livorsi – 318 Cafe – Excelsior\, MN | Tock | Tock (exploretock.com)
URL:https://billchadwick.com/event/excelsior-318-cafe/
LOCATION:Excelsior 318 Cafe\, 318 Water St.\, Excelsior\, MN
END:VEVENT
END:VCALENDAR