BEGIN:VCALENDAR
VERSION:2.0
PRODID:-//Bill Chadwick - ECPv6.15.20//NONSGML v1.0//EN
CALSCALE:GREGORIAN
METHOD:PUBLISH
X-WR-CALNAME:Bill Chadwick
X-ORIGINAL-URL:https://billchadwick.com
X-WR-CALDESC:Events for Bill Chadwick
REFRESH-INTERVAL;VALUE=DURATION:PT1H
X-Robots-Tag:noindex
X-PUBLISHED-TTL:PT1H
BEGIN:VTIMEZONE
TZID:America/Chicago
BEGIN:DAYLIGHT
TZOFFSETFROM:-0600
TZOFFSETTO:-0500
TZNAME:CDT
DTSTART:20240310T080000
END:DAYLIGHT
BEGIN:STANDARD
TZOFFSETFROM:-0500
TZOFFSETTO:-0600
TZNAME:CST
DTSTART:20241103T070000
END:STANDARD
BEGIN:DAYLIGHT
TZOFFSETFROM:-0600
TZOFFSETTO:-0500
TZNAME:CDT
DTSTART:20250309T080000
END:DAYLIGHT
BEGIN:STANDARD
TZOFFSETFROM:-0500
TZOFFSETTO:-0600
TZNAME:CST
DTSTART:20251102T070000
END:STANDARD
BEGIN:DAYLIGHT
TZOFFSETFROM:-0600
TZOFFSETTO:-0500
TZNAME:CDT
DTSTART:20260308T080000
END:DAYLIGHT
BEGIN:STANDARD
TZOFFSETFROM:-0500
TZOFFSETTO:-0600
TZNAME:CST
DTSTART:20261101T070000
END:STANDARD
END:VTIMEZONE
BEGIN:VEVENT
DTSTART;TZID=America/Chicago:20250103T200000
DTEND;TZID=America/Chicago:20250103T220000
DTSTAMP:20260424T060849
CREATED:20241104T052751Z
LAST-MODIFIED:20241207T200218Z
UID:2052-1735934400-1735941600@billchadwick.com
SUMMARY:Excelsior 318 Cafe and Music Bar
DESCRIPTION:Friday\, January 3\, Excelsior 318 Cafe and Music Bar\, located at 318 Water Street in Excelsior. Food and drink service starts at 6\, show starts at 8. You can order food right up until the beginning of the show. \nTickets: 318 Cafe Tickets \nI am privileged to return to Excelsior 318 Café and Music Bar for a third time\, celebrating “The Ninth Day of Christmas” with some heartwarming Christmas tales\, plus the usual miscellaneous tomfoolery\, wit and wisdom. (My comedy partner\, “Gramps\,” may also make an appearance.) \n \nThe last two shows at 318 sold out within a week\, so don’t delay in purchasing tickets. I am VERY excited to\nshare the stage with rising stars in the music world\, vocalist Myia Ann and guitarist Eric Wagner.\nThis duo blend Roots\, RnB\, and Folk\, performing classics with their own twist\,\nalong with the newest hits. Soon they hope to transition to their originals as they\nwrite and produce their first EP together. To find out more about the two\, follow\n@myia_ann and @melophobist.
URL:https://billchadwick.com/event/excelsior-318-cafe-and-music-bar/
LOCATION:Excelsior 318 Cafe\, 318 Water St.\, Excelsior\, MN
END:VEVENT
END:VCALENDAR