BEGIN:VCALENDAR
VERSION:2.0
PRODID:-//Bill Chadwick - ECPv6.15.20//NONSGML v1.0//EN
CALSCALE:GREGORIAN
METHOD:PUBLISH
X-WR-CALNAME:Bill Chadwick
X-ORIGINAL-URL:https://billchadwick.com
X-WR-CALDESC:Events for Bill Chadwick
REFRESH-INTERVAL;VALUE=DURATION:PT1H
X-Robots-Tag:noindex
X-PUBLISHED-TTL:PT1H
BEGIN:VTIMEZONE
TZID:America/Chicago
BEGIN:DAYLIGHT
TZOFFSETFROM:-0600
TZOFFSETTO:-0500
TZNAME:CDT
DTSTART:20240310T080000
END:DAYLIGHT
BEGIN:STANDARD
TZOFFSETFROM:-0500
TZOFFSETTO:-0600
TZNAME:CST
DTSTART:20241103T070000
END:STANDARD
BEGIN:DAYLIGHT
TZOFFSETFROM:-0600
TZOFFSETTO:-0500
TZNAME:CDT
DTSTART:20250309T080000
END:DAYLIGHT
BEGIN:STANDARD
TZOFFSETFROM:-0500
TZOFFSETTO:-0600
TZNAME:CST
DTSTART:20251102T070000
END:STANDARD
BEGIN:DAYLIGHT
TZOFFSETFROM:-0600
TZOFFSETTO:-0500
TZNAME:CDT
DTSTART:20260308T080000
END:DAYLIGHT
BEGIN:STANDARD
TZOFFSETFROM:-0500
TZOFFSETTO:-0600
TZNAME:CST
DTSTART:20261101T070000
END:STANDARD
END:VTIMEZONE
BEGIN:VEVENT
DTSTART;TZID=America/Chicago:20250816T203000
DTEND;TZID=America/Chicago:20250816T223000
DTSTAMP:20260423T214221
CREATED:20250602T045115Z
LAST-MODIFIED:20250709T032458Z
UID:2094-1755376200-1755383400@billchadwick.com
SUMMARY:Headlining at the Aster Cafe
DESCRIPTION:Storyteller/stand-up comic Bill Chadwick and marvelous musician Telae team up at the renowned Aster Café on Saturday\, August 16. Only $15. Ticket link: \nhttps://www.exploretock.com/astercafe/experience/558945/saturday-81625-bill-chadwick-15-cover?date=2025-08-16&size=2&time=10%3A00 or just astercafe.com \nThe Aster is located at 125 SE Main St (by St. Anthony Main)\, Minneapolis. Connected parking is available. Come for dinner and drinks and stay for the 8:30 show. Bill will be doing a mix of new and classic material. \nBill is excited and delighted to share the stage with his extremely talented new friend\, Telae. She is a Minnesota native who has been singing and writing music for over three decades.  (Evidently\, she started in kindergarten.) With musical influences from church songs to jazz and folk\, Telae has been inspired by artists like Carole King\, Stevie Wonder and Billie Holiday.  She aims to continue to inspire others with her own powerful gift of song.  Telae has formally studied music performance in the cities of Chicago and Minneapolis and has spent time encouraging youth to find their own unique voice over the past 10 years\, teaching in classrooms and through private voice lessons.  Telae believes that love is the most powerful energy in the universe and\, combined with the art of music\, can be an unstoppable force for positive change in our world. \nBeneath a canopy of trees on the prettiest cobblestone street in Minneapolis\, the Aster Cafe beckons with flickering candlelight and romantic charm. Overlooking both the Mississippi River and the downtown skyline\, their European courtyard and bespoke dining room welcome you to savor fresh\, inventive dishes (no deep fryers!) and custom cocktails\, curated wines\, and craft beers. “The best place for a date\,” whether it’s a first date or a fifty-year anniversary celebration.
URL:https://billchadwick.com/event/headlining-at-the-aster-cafe/
LOCATION:astor cafe\, 125 SE Main St\, Minneapolis\, MN\, United States
END:VEVENT
END:VCALENDAR