BEGIN:VCALENDAR
VERSION:2.0
PRODID:-//Bill Chadwick - ECPv6.15.20//NONSGML v1.0//EN
CALSCALE:GREGORIAN
METHOD:PUBLISH
X-ORIGINAL-URL:https://billchadwick.com
X-WR-CALDESC:Events for Bill Chadwick
REFRESH-INTERVAL;VALUE=DURATION:PT1H
X-Robots-Tag:noindex
X-PUBLISHED-TTL:PT1H
BEGIN:VTIMEZONE
TZID:America/Chicago
BEGIN:DAYLIGHT
TZOFFSETFROM:-0600
TZOFFSETTO:-0500
TZNAME:CDT
DTSTART:20190310T080000
END:DAYLIGHT
BEGIN:STANDARD
TZOFFSETFROM:-0500
TZOFFSETTO:-0600
TZNAME:CST
DTSTART:20191103T070000
END:STANDARD
BEGIN:DAYLIGHT
TZOFFSETFROM:-0600
TZOFFSETTO:-0500
TZNAME:CDT
DTSTART:20200308T080000
END:DAYLIGHT
BEGIN:STANDARD
TZOFFSETFROM:-0500
TZOFFSETTO:-0600
TZNAME:CST
DTSTART:20201101T070000
END:STANDARD
BEGIN:DAYLIGHT
TZOFFSETFROM:-0600
TZOFFSETTO:-0500
TZNAME:CDT
DTSTART:20210314T080000
END:DAYLIGHT
BEGIN:STANDARD
TZOFFSETFROM:-0500
TZOFFSETTO:-0600
TZNAME:CST
DTSTART:20211107T070000
END:STANDARD
BEGIN:DAYLIGHT
TZOFFSETFROM:-0600
TZOFFSETTO:-0500
TZNAME:CDT
DTSTART:20220313T080000
END:DAYLIGHT
BEGIN:STANDARD
TZOFFSETFROM:-0500
TZOFFSETTO:-0600
TZNAME:CST
DTSTART:20221106T070000
END:STANDARD
END:VTIMEZONE
BEGIN:VEVENT
DTSTART;TZID=America/Chicago:20210917T103000
DTEND;TZID=America/Chicago:20210917T123000
DTSTAMP:20260423T165443
CREATED:20210815T170830Z
LAST-MODIFIED:20210815T170830Z
UID:1785-1631874600-1631881800@billchadwick.com
SUMMARY:Comedy and Book Signing
DESCRIPTION:
URL:https://billchadwick.com/event/comedy-and-book-signing-2/
LOCATION:Coon Rapids Service Center\, 11155 Robinson Drive\, Coon Rapids\, MN\, 55433\, United States
CATEGORIES:Book Signings,Comedy
END:VEVENT
BEGIN:VEVENT
DTSTART;TZID=America/Chicago:20210916T150000
DTEND;TZID=America/Chicago:20210916T160000
DTSTAMP:20260423T165443
CREATED:20210815T170535Z
LAST-MODIFIED:20210815T170535Z
UID:1782-1631804400-1631808000@billchadwick.com
SUMMARY:Comedy and Book Signing
DESCRIPTION:
URL:https://billchadwick.com/event/comedy-and-book-signing/
LOCATION:Stonecrest Presbyterian Home\, 8725 Promenade Lane\, Woodbury\, MN\, 55125\, United States
CATEGORIES:Book Signings,Comedy
END:VEVENT
BEGIN:VEVENT
DTSTART;TZID=America/Chicago:20210904T213000
DTEND;TZID=America/Chicago:20210904T233000
DTSTAMP:20260423T165443
CREATED:20210827T022604Z
LAST-MODIFIED:20210827T022604Z
UID:1819-1630791000-1630798200@billchadwick.com
SUMMARY:Funniest Person Contest
DESCRIPTION:I was notified that I have made the semifinals of Acme Comedy Club’s Funniest Person Contest. I will be onstage at 9:30pm. The event includes five of us amateurs and two professionals. Audience reaction counts for 1/3 of the score so I would love it if you would come and cheer wildly for me. \nIf I make the finals I will be onstage again on September 8 at 8pm. \nAdmission is $20.
URL:https://billchadwick.com/event/funniest-person-contest/
LOCATION:Acme Comedy Company\, 708 N 1st St\, Minneapolis\, MN\, 55401\, United States
CATEGORIES:Comedy
END:VEVENT
BEGIN:VEVENT
DTSTART;TZID=America/Chicago:20210819T200000
DTEND;TZID=America/Chicago:20210819T210000
DTSTAMP:20260423T165443
CREATED:20210818T013519Z
LAST-MODIFIED:20210818T013519Z
UID:1815-1629403200-1629406800@billchadwick.com
SUMMARY:Comedy
DESCRIPTION:Bill has a 5 minute gig at Sisyphus Brewing’s open mic Thursday August 19th at 8pm. They have some of the best open mics in town and is located immediately East of Dunwoody Institute and there is no charge for the show.
URL:https://billchadwick.com/event/comedy-2/
LOCATION:Sisyphus Brewing\, 712 Ontario Ave. W\, Minneapolis\, MN\, 55403\, United States
CATEGORIES:Comedy
END:VEVENT
BEGIN:VEVENT
DTSTART;TZID=America/Chicago:20200216T180000
DTEND;TZID=America/Chicago:20200216T200000
DTSTAMP:20260423T165443
CREATED:20200115T004454Z
LAST-MODIFIED:20200131T162227Z
UID:310-1581876000-1581883200@billchadwick.com
SUMMARY:Stand-Up Comedy in Shoreview
DESCRIPTION:Presbyterian Church of the Way is hosting a “Comedy Night” with me as the headliner.  (You get what you pay for.)  I will be able to do an extended set\, which will be fun for me at least.
URL:https://billchadwick.com/event/stand-up-comedy-in-shoreview/
LOCATION:Presbyterian Church of the Way\, 3382 Lexington Avenue North\, Shoreview\, MN\, 55126\, United States
CATEGORIES:Comedy
ATTACH;FMTTYPE=image/jpeg:https://billchadwick.com/wp-content/uploads/2019/12/IMG_3684-small.jpg
END:VEVENT
BEGIN:VEVENT
DTSTART;TZID=America/Chicago:20200212T203000
DTEND;TZID=America/Chicago:20200212T223000
DTSTAMP:20260423T165443
CREATED:20191205T124410Z
LAST-MODIFIED:20200527T165130Z
UID:262-1581539400-1581546600@billchadwick.com
SUMMARY:Stand Up at the Honey Lounge
DESCRIPTION:I will be performing stand-up as one of the featured performers at Honey Lounge\, in the lower level of the Ginger Hop Bar\, just across the river from downtown Minneapolis.  This is a monthly cabaret (mostly music) put on by Err\, “a Twin Cities artist collective hell-bent on championing emerging artists.  They throw art-filled parties and make party-filled art.”
URL:https://billchadwick.com/event/stand-up-at-the-honey-lounge/
LOCATION:Honey Lounge\, 205 E Hennepin Ave\, Minneapolis\, MN\, 55414\, United States
CATEGORIES:Comedy
END:VEVENT
BEGIN:VEVENT
DTSTART;TZID=America/Chicago:20200116T180000
DTEND;TZID=America/Chicago:20200116T200000
DTSTAMP:20260423T165443
CREATED:20191205T123602Z
LAST-MODIFIED:20200115T003920Z
UID:255-1579197600-1579204800@billchadwick.com
SUMMARY:Cancelled: Stand-Up Show at Dunn Bros
DESCRIPTION:We’re so sorry\, but Dunn Bros has cancelled all open mics until spring 2020.
URL:https://billchadwick.com/event/stand-up-show-at-dunn-bros/
LOCATION:Dunn Brothers Coffee (Linden Hills)\, 2814 W. 43rd St.\, Minneapolis\, MN\, 55410\, United States
CATEGORIES:Comedy
ATTACH;FMTTYPE=image/jpeg:https://billchadwick.com/wp-content/uploads/2019/12/IMG_3684-small.jpg
END:VEVENT
END:VCALENDAR