BEGIN:VCALENDAR
VERSION:2.0
PRODID:-//Bill Chadwick - ECPv6.15.20//NONSGML v1.0//EN
CALSCALE:GREGORIAN
METHOD:PUBLISH
X-ORIGINAL-URL:https://billchadwick.com
X-WR-CALDESC:Events for Bill Chadwick
REFRESH-INTERVAL;VALUE=DURATION:PT1H
X-Robots-Tag:noindex
X-PUBLISHED-TTL:PT1H
BEGIN:VTIMEZONE
TZID:America/Chicago
BEGIN:DAYLIGHT
TZOFFSETFROM:-0600
TZOFFSETTO:-0500
TZNAME:CDT
DTSTART:20240310T080000
END:DAYLIGHT
BEGIN:STANDARD
TZOFFSETFROM:-0500
TZOFFSETTO:-0600
TZNAME:CST
DTSTART:20241103T070000
END:STANDARD
BEGIN:DAYLIGHT
TZOFFSETFROM:-0600
TZOFFSETTO:-0500
TZNAME:CDT
DTSTART:20250309T080000
END:DAYLIGHT
BEGIN:STANDARD
TZOFFSETFROM:-0500
TZOFFSETTO:-0600
TZNAME:CST
DTSTART:20251102T070000
END:STANDARD
BEGIN:DAYLIGHT
TZOFFSETFROM:-0600
TZOFFSETTO:-0500
TZNAME:CDT
DTSTART:20260308T080000
END:DAYLIGHT
BEGIN:STANDARD
TZOFFSETFROM:-0500
TZOFFSETTO:-0600
TZNAME:CST
DTSTART:20261101T070000
END:STANDARD
BEGIN:DAYLIGHT
TZOFFSETFROM:-0600
TZOFFSETTO:-0500
TZNAME:CDT
DTSTART:20270314T080000
END:DAYLIGHT
BEGIN:STANDARD
TZOFFSETFROM:-0500
TZOFFSETTO:-0600
TZNAME:CST
DTSTART:20271107T070000
END:STANDARD
END:VTIMEZONE
BEGIN:VEVENT
DTSTART;TZID=America/Chicago:20251004T200000
DTEND;TZID=America/Chicago:20251004T220000
DTSTAMP:20260423T185813
CREATED:20250509T031732Z
LAST-MODIFIED:20250828T003624Z
UID:2083-1759608000-1759615200@billchadwick.com
SUMMARY:Bill is Back at 318!
DESCRIPTION:Bill is Back at 318! \nI am so delighted that singer/songwriter Monica Livorsi will once again be joining me at Excelsior 318 Cafe and Music Bar on Saturday\, October 4. Tickets are $20. It’s a lovely intimate venue\, which means it sells out quickly. \nDoors open for drinks and dinner at 6 PM and the show starts at 8. You may order food right up until showtime and drinks throughout the show. 318 Water St\, Excelsior. I promise a significant amount of new material\, and you will love Monica! \nTickets at www.exploretock.com/318cafe  or www.billchadwick.com
URL:https://billchadwick.com/event/excelsior-318-cafe-3/
LOCATION:Excelsior 318 Cafe\, 318 Water St.\, Excelsior\, MN
CATEGORIES:Comedy
END:VEVENT
BEGIN:VEVENT
DTSTART;TZID=America/Chicago:20251009T133000
DTEND;TZID=America/Chicago:20251009T150000
DTSTAMP:20260423T185813
CREATED:20250517T222117Z
LAST-MODIFIED:20250517T222117Z
UID:2088-1760016600-1760022000@billchadwick.com
SUMMARY:[Private Event] Volunteer Recognition Event
DESCRIPTION:(Private Event) Thursday\, October 9\, 1:30-3 PM\nVolunteer Recognition Event\nBoutwell’s Landing\nOak Park Heights\, MN
URL:https://billchadwick.com/event/private-event-volunteer-recognition-event/
LOCATION:boutwells\, Oak Park Heights\, MN\, United States
END:VEVENT
BEGIN:VEVENT
DTSTART;TZID=America/Chicago:20251025T183000
DTEND;TZID=America/Chicago:20251025T200000
DTSTAMP:20260423T185813
CREATED:20250827T001113Z
LAST-MODIFIED:20250828T002926Z
UID:2110-1761417000-1761422400@billchadwick.com
SUMMARY:St. Francis of Assisi Catholic Church
DESCRIPTION:Saturday\, October 25\, 6:30 PM St. Francis of Assisi Catholic Church\, 16770 13 th St\nSouth\, Lake St. Croix Beach\, MN (south of Stillwater\, north of Afton). Freewill\noffering\, no advance tickets. 75 minutes of new and classic material. Bring your\nfriends; have dinner first (or after) at the Afton House or one of the many fine\nrestaurants in Stillwater.
URL:https://billchadwick.com/event/private-event-st-francis-of-assisi-catholic-church/
CATEGORIES:Comedy,Storytelling
END:VEVENT
BEGIN:VEVENT
DTSTART;TZID=America/Chicago:20251109T160000
DTEND;TZID=America/Chicago:20251109T170000
DTSTAMP:20260423T185813
CREATED:20251008T020342Z
LAST-MODIFIED:20251008T020342Z
UID:2119-1762704000-1762707600@billchadwick.com
SUMMARY:An Afternoon of Storytelling\, Stand-up and Song
DESCRIPTION:“An Afternoon of Storytelling\, Stand-up and Song” for a wonderful cause\, with\nDavid Lohman and Bill Chadwick.\nSunday\, November 9\, 4 PM\, St. Luke Presbyterian Church\, 3121 Groveland\nSchool Road\, Minnetonka\, 55391. (One block north and east of the intersection of\nHwy 101 and Minnetonka Boulevard.)\nI will be joining with Musician Extraordinaire David Lohman to raise funds for\nOutfront Minnesota’s efforts to aid transgender folks in moving from more\ndangerous states to Minnesota. This is a freewill offering; no advance reservations\nrequired.\nDavid Lohman (DavidLohmanMusic.com) is a good friend\, former colleague\, and\namazingly talented singer/pianist/director/songwriter/activist. His CV is too long to\nlist. I promise this will be a highly entertaining and moving event for a much-\nneeded cause.
URL:https://billchadwick.com/event/an-afternoon-of-storytelling-stand-up-and-song/
LOCATION:St. Luke Presbyterian Church\, 3121 Groveland School Road\, Minnetonka\, Minnesota
END:VEVENT
BEGIN:VEVENT
DTSTART;TZID=America/Chicago:20260412T093000
DTEND;TZID=America/Chicago:20260412T103000
DTSTAMP:20260423T185813
CREATED:20260324T224128Z
LAST-MODIFIED:20260324T224128Z
UID:2128-1775986200-1775989800@billchadwick.com
SUMMARY:Holy Humor Sunday
DESCRIPTION:Sunday\, April 12\, 9:30 AM   \nFirst Presbyterian Church\, 6201 Osgood Ave N\, Stillwater\, MN \nI will be preaching for “Holy Humor Sunday.” The idea behind Holy Humor Sunday is that on Good Friday the forces of evil thought they had won. Easter proved they didn’t. So\, the Sunday following Easter the faithful gather to celebrate\, tell jokes and laugh at the forces of evil. I will be doing a 20-minute set of new and old material. Who doesn’t need a laugh these days?
URL:https://billchadwick.com/event/holy-humor-sunday/
LOCATION:First Presbyterian Church of Stillwater\, 6201 Osgood Ave N\, Stillwater\, MN\, 55082\, United States
END:VEVENT
BEGIN:VEVENT
DTSTART;TZID=America/Chicago:20260418T160000
DTEND;TZID=America/Chicago:20260418T170000
DTSTAMP:20260423T185813
CREATED:20260324T224620Z
LAST-MODIFIED:20260324T224620Z
UID:2133-1776528000-1776531600@billchadwick.com
SUMMARY:VEAP Fundraiser Free will offering
DESCRIPTION:Saturday\, April 18\, 4 PM \nOak Grove Presbyterian Church\, 2200 W. Old Shakopee Road\, Bloomington\, MN \nVEAP Fundraiser Free will offering. \nVolunteers Enlisted to Assist People (VEAP) is one of the oldest and is the largest foodshelf in the Twin Cities. The ICE invasion has resulted in sometimes empty shelves at VEAP. Please bring your friends and your wallets.  \nPlease make a financial donation rather than bringing food. VEAP can purchase food very cheaply\, at a dollar per meal. A $100 donation equals three meals a day for a month!
URL:https://billchadwick.com/event/veap-fundraiser-free-will-offering/
END:VEVENT
BEGIN:VEVENT
DTSTART;TZID=America/Chicago:20260422T080000
DTEND;TZID=America/Chicago:20260422T170000
DTSTAMP:20260423T185813
CREATED:20260324T224750Z
LAST-MODIFIED:20260324T224750Z
UID:2135-1776844800-1776877200@billchadwick.com
SUMMARY:[Private Event] “Leading with Imagination\, Humor\, Curiosity and Empathy” Workshop
DESCRIPTION:(Private event) Wednesday\, April 22  \nSynod Leadership Summit  \n“Leading with Imagination\, Humor\, Curiosity and Empathy” Workshop
URL:https://billchadwick.com/event/private-event-leading-with-imagination-humor-curiosity-and-empathy-workshop/
END:VEVENT
BEGIN:VEVENT
DTSTART;TZID=America/Chicago:20260426T103000
DTEND;TZID=America/Chicago:20260426T113000
DTSTAMP:20260423T185813
CREATED:20260324T224405Z
LAST-MODIFIED:20260324T224419Z
UID:2130-1777199400-1777203000@billchadwick.com
SUMMARY:“Reasons for Hope in a Chaotic World”
DESCRIPTION:Sunday\, April 26\, 10:30 AM\nOak Grove Presbyterian Church\, 2200 W. Old Shakopee Road\, Bloomington\, MN\nI will be guest preaching at my former congregation.\n“Reasons for Hope in a Chaotic World”
URL:https://billchadwick.com/event/reasons-for-hope-in-a-chaotic-world/
LOCATION:Oak Grove Presbyterian Church\, 2200 W. Old Shakopee Road\, Bloomington\, MN\, 55431\, United States
END:VEVENT
END:VCALENDAR