BEGIN:VCALENDAR
VERSION:2.0
PRODID:-//Bill Chadwick - ECPv6.15.20//NONSGML v1.0//EN
CALSCALE:GREGORIAN
METHOD:PUBLISH
X-WR-CALNAME:Bill Chadwick
X-ORIGINAL-URL:https://billchadwick.com
X-WR-CALDESC:Events for Bill Chadwick
REFRESH-INTERVAL;VALUE=DURATION:PT1H
X-Robots-Tag:noindex
X-PUBLISHED-TTL:PT1H
BEGIN:VTIMEZONE
TZID:America/Chicago
BEGIN:DAYLIGHT
TZOFFSETFROM:-0600
TZOFFSETTO:-0500
TZNAME:CDT
DTSTART:20180311T080000
END:DAYLIGHT
BEGIN:STANDARD
TZOFFSETFROM:-0500
TZOFFSETTO:-0600
TZNAME:CST
DTSTART:20181104T070000
END:STANDARD
BEGIN:DAYLIGHT
TZOFFSETFROM:-0600
TZOFFSETTO:-0500
TZNAME:CDT
DTSTART:20190310T080000
END:DAYLIGHT
BEGIN:STANDARD
TZOFFSETFROM:-0500
TZOFFSETTO:-0600
TZNAME:CST
DTSTART:20191103T070000
END:STANDARD
BEGIN:DAYLIGHT
TZOFFSETFROM:-0600
TZOFFSETTO:-0500
TZNAME:CDT
DTSTART:20200308T080000
END:DAYLIGHT
BEGIN:STANDARD
TZOFFSETFROM:-0500
TZOFFSETTO:-0600
TZNAME:CST
DTSTART:20201101T070000
END:STANDARD
BEGIN:DAYLIGHT
TZOFFSETFROM:-0600
TZOFFSETTO:-0500
TZNAME:CDT
DTSTART:20210314T080000
END:DAYLIGHT
BEGIN:STANDARD
TZOFFSETFROM:-0500
TZOFFSETTO:-0600
TZNAME:CST
DTSTART:20211107T070000
END:STANDARD
BEGIN:DAYLIGHT
TZOFFSETFROM:-0600
TZOFFSETTO:-0500
TZNAME:CDT
DTSTART:20220313T080000
END:DAYLIGHT
BEGIN:STANDARD
TZOFFSETFROM:-0500
TZOFFSETTO:-0600
TZNAME:CST
DTSTART:20221106T070000
END:STANDARD
BEGIN:DAYLIGHT
TZOFFSETFROM:-0600
TZOFFSETTO:-0500
TZNAME:CDT
DTSTART:20230312T080000
END:DAYLIGHT
BEGIN:STANDARD
TZOFFSETFROM:-0500
TZOFFSETTO:-0600
TZNAME:CST
DTSTART:20231105T070000
END:STANDARD
BEGIN:DAYLIGHT
TZOFFSETFROM:-0600
TZOFFSETTO:-0500
TZNAME:CDT
DTSTART:20240310T080000
END:DAYLIGHT
BEGIN:STANDARD
TZOFFSETFROM:-0500
TZOFFSETTO:-0600
TZNAME:CST
DTSTART:20241103T070000
END:STANDARD
END:VTIMEZONE
BEGIN:VEVENT
DTSTART;TZID=America/Chicago:20230401T180000
DTEND;TZID=America/Chicago:20230401T190000
DTSTAMP:20260423T175417
CREATED:20230311T045222Z
LAST-MODIFIED:20230311T045222Z
UID:1904-1680372000-1680375600@billchadwick.com
SUMMARY:April Fools' Comedy Night in Stillwater
DESCRIPTION:April Fools’ Comedy Night in Stillwater. \nFirst Presbyterian Church\, 6201 Osgood Avenue North.\nApril 1\, 6 PM.\nLocal raconteur Peter Clements will open and emcee.\nThat alone is worth the price of admission.\nFree admission.\nFeatured performer Bill Chadwick\n(All new material since my appearance there last year.) \nAfter the performance have a wonderful dinner\nin one of Stillwater’s terrific dining spots.
URL:https://billchadwick.com/event/april-fools-comedy-night-in-stillwater/
LOCATION:First Presbyterian Church of Stillwater\, 6201 Osgood Ave N\, Stillwater\, MN\, 55082\, United States
CATEGORIES:Book Signings,Comedy
END:VEVENT
BEGIN:VEVENT
DTSTART;TZID=America/Chicago:20230318T180000
DTEND;TZID=America/Chicago:20230318T190000
DTSTAMP:20260423T175417
CREATED:20230223T190225Z
LAST-MODIFIED:20230223T190225Z
UID:1899-1679162400-1679166000@billchadwick.com
SUMMARY:Comedy Night in Minnetonka
DESCRIPTION:(Folk music starting at 5:45.)\nI will be doing about an hour-long set and signing and selling books.\nFree will offering for the local food shelf. \n\n\nSt. Luke Presbyterian Church\,\n3121 Groveland School Road\, Minnetonka 55391.
URL:https://billchadwick.com/event/comedy-night-in-minnetonka/
LOCATION:St. Luke Presbyterian Church\, 3121 Groveland School Road\, Minnetonka\, Minnesota
CATEGORIES:Book Signings,Comedy
END:VEVENT
BEGIN:VEVENT
DTSTART;TZID=America/Chicago:20230311T180000
DTEND;TZID=America/Chicago:20230311T193000
DTSTAMP:20260423T175417
CREATED:20230211T123617Z
LAST-MODIFIED:20230211T123617Z
UID:1896-1678557600-1678563000@billchadwick.com
SUMMARY:COMEDY NIGHT IN BURNSVILLE!
DESCRIPTION:COMEDY NIGHT IN BURNSVILLE! Saturday\, March 11\, 6 PM Free Admission\nPresbyterian Church of the Apostles\, 701 E. 130 th St.\, Burnsville MN 55337 \n  \nStorytelling and stand-up comedy\, followed by book sales and signing of\nStill Laughing\, Still Learning (Still Looking for a Good Title): Mostly True Stories\nof Family\, Friends\, Faith & Foibles
URL:https://billchadwick.com/event/comedy-night-in-burnsville/
LOCATION:Presbyterian Church of the Apostles\, 701 E. 130th St.\, Burnsville\, MN\, 55337\, United States
CATEGORIES:Book Signings,Comedy
END:VEVENT
BEGIN:VEVENT
DTSTART;TZID=America/Chicago:20220811T130000
DTEND;TZID=America/Chicago:20220811T140000
DTSTAMP:20260423T175417
CREATED:20220714T004333Z
LAST-MODIFIED:20220714T004333Z
UID:1890-1660222800-1660226400@billchadwick.com
SUMMARY:Comedy and Book Signing
DESCRIPTION:Green Twig Villas\, 13945 Upper 58th St\, Oak Park Heights\, MN
URL:https://billchadwick.com/event/comedy-and-book-signing-3/
LOCATION:Green Twig Villas\, 13945 Upper 58th St\, Oak Park Heights\, Minnesota
CATEGORIES:Book Signings,Comedy
END:VEVENT
BEGIN:VEVENT
DTSTART;TZID=America/Chicago:20220503T193000
DTEND;TZID=America/Chicago:20220503T210000
DTSTAMP:20260423T175417
CREATED:20220502T135218Z
LAST-MODIFIED:20220502T135218Z
UID:1885-1651606200-1651611600@billchadwick.com
SUMMARY:"FUNNIEST PERSON WITH A DAY JOB" CONTEST
DESCRIPTION:Just found out I will be a contestant in the “Funniest Person with a Day Job” contest at Rick Bronson’s House of Comedy at the Mall of America this Tuesday evening\, May 3rd\, starting at 7:30. Message or text me by 11 AM Tuesday if you would like a free ticket. A big part of the scoring is audience reaction\, so please laugh your head off and clap like crazy when I’m up there\, even if you don’t mean it. Winner gets $1000 AND a paying gig at the club\, which is even better.
URL:https://billchadwick.com/event/funniest-person-with-a-day-job-contest/
LOCATION:Rick Bronson’s House of Comedy\, 48 East Broadway\, Bloomington\, MN\, United States
CATEGORIES:Comedy
END:VEVENT
BEGIN:VEVENT
DTSTART;TZID=America/Chicago:20220430T170000
DTEND;TZID=America/Chicago:20220430T190000
DTSTAMP:20260423T175417
CREATED:20220316T104653Z
LAST-MODIFIED:20220316T104653Z
UID:1877-1651338000-1651345200@billchadwick.com
SUMMARY:Comedy Night at First Presbyterian Church of Stillwater
DESCRIPTION:Bill will be the featured performer for Comedy Night Saturday\, April 30\, 5 PM\, at First Presbyterian Church of Stillwater\, 6201 Osgood Avenue North. A free will offering for the church’s Mission Endowment fund is the only admission charge.
URL:https://billchadwick.com/event/comedy-night-at-first-presbyterian-church-of-stillwater/
LOCATION:First Presbyterian Church of Stillwater\, 6201 Osgood Ave N\, Stillwater\, MN\, 55082\, United States
CATEGORIES:Book Signings,Comedy
END:VEVENT
BEGIN:VEVENT
DTSTART;TZID=America/Chicago:20220319T170000
DTEND;TZID=America/Chicago:20220319T183000
DTSTAMP:20260423T175417
CREATED:20220206T155255Z
LAST-MODIFIED:20220206T155255Z
UID:1874-1647709200-1647714600@billchadwick.com
SUMMARY:Comedy Night at Trinity Presbyterian Church
DESCRIPTION:Bill will be the featured performer at Comedy Night at Trinity Presbyterian in Woodbury.\nBook signing and treats afterwards!\nFree admission. Masks required.
URL:https://billchadwick.com/event/comedy-night-at-trinity-presbyterian-church/
LOCATION:Trinity Presbyterian Church\, 2125 Tower Drive\, Woodbury\, MN\, United States
CATEGORIES:Book Signings,Comedy
END:VEVENT
BEGIN:VEVENT
DTSTART;TZID=America/Chicago:20220212T180000
DTEND;TZID=America/Chicago:20220212T200000
DTSTAMP:20260423T175418
CREATED:20220104T012808Z
LAST-MODIFIED:20220104T012808Z
UID:1871-1644688800-1644696000@billchadwick.com
SUMMARY:Featured speaker for the Cana Dinner (Valentine’s theme) [Private Event]
DESCRIPTION:[Private Event] Featured speaker for the Cana Dinner (Valentine’s theme) at St. Joseph of the Lake Catholic Church in Lino Lakes.  I will be doing comedy (and a bit of serious talk) on the subject of relationships.  Also signing and selling books.
URL:https://billchadwick.com/event/featured-speaker-for-the-cana-dinner-valentines-theme-private-event/
LOCATION:St. Joseph of the Lake Catholic Church\, Lino Lakes\, MN\, United States
CATEGORIES:Book Signings,Comedy
END:VEVENT
BEGIN:VEVENT
DTSTART;TZID=America/Chicago:20220210T140000
DTEND;TZID=America/Chicago:20220210T150000
DTSTAMP:20260423T175418
CREATED:20220104T012017Z
LAST-MODIFIED:20220104T012017Z
UID:1866-1644501600-1644505200@billchadwick.com
SUMMARY:Book Reading/Comedy (Private Event)
DESCRIPTION:Private book reading and comedy event.
URL:https://billchadwick.com/event/book-reading-comedy-private-event/
LOCATION:Folkestone\, Wayzata\, Minnesota
END:VEVENT
BEGIN:VEVENT
DTSTART;TZID=America/Chicago:20220129T190000
DTEND;TZID=America/Chicago:20220129T210000
DTSTAMP:20260423T175418
CREATED:20220104T012454Z
LAST-MODIFIED:20220104T012454Z
UID:1868-1643482800-1643490000@billchadwick.com
SUMMARY:Featured Comic for Fellowship Event at Chain of Lakes Presbyterian Church
DESCRIPTION:I will be doing 30-45 minutes of comedy\, followed by refreshments and book sales/signing.  All are welcome.  (I know it’s a hike for some of you\, but it’s free and you don’t have to sit through gross comics.)
URL:https://billchadwick.com/event/featured-comic-for-fellowship-event-at-chain-of-lakes-presbyterian-church/
LOCATION:Chain of Lakes Presbyterian Church\, 10130 Davenport St. NE #160\, Blaine\, MN\, 55449\, United States
CATEGORIES:Book Signings,Comedy
END:VEVENT
BEGIN:VEVENT
DTSTART;TZID=America/Chicago:20220118T190000
DTEND;TZID=America/Chicago:20220118T220000
DTSTAMP:20260423T175418
CREATED:20220104T011832Z
LAST-MODIFIED:20220104T011832Z
UID:1863-1642532400-1642543200@billchadwick.com
SUMMARY:Triple Threat Tuesday
DESCRIPTION:An open mic event at Rick Bronson’s House of Comedy at the Mall of America. I will have five minutes of stage time and I don’t know when I will be on the program. Tickets are $5 and there is a two-drink/snack minimum\, so it’s $15 total.  Sorry.  (Warning: The last time I did this\, some of the other comics were pretty raunchy.  You never know from night to night.)
URL:https://billchadwick.com/event/triple-threat-tuesday/
LOCATION:Rick Bronson’s House of Comedy\, 48 East Broadway\, Bloomington\, MN\, United States
CATEGORIES:Comedy
END:VEVENT
BEGIN:VEVENT
DTSTART;TZID=America/Chicago:20211024T093000
DTEND;TZID=America/Chicago:20211024T113000
DTSTAMP:20260423T175418
CREATED:20211016T003450Z
LAST-MODIFIED:20211016T003450Z
UID:1856-1635067800-1635075000@billchadwick.com
SUMMARY:Book Reading/Preaching
DESCRIPTION:There will be a book reading at 9:50-10:15am followed by a church service at 10:30am.
URL:https://billchadwick.com/event/book-reading-preaching/
LOCATION:St. Luke Presbyterian Church\, 3121 Groveland School Road\, Minnetonka\, Minnesota
CATEGORIES:Book Signings,Preaching
END:VEVENT
BEGIN:VEVENT
DTSTART;TZID=America/Chicago:20211021T140000
DTEND;TZID=America/Chicago:20211021T150000
DTSTAMP:20260423T175418
CREATED:20211016T003159Z
LAST-MODIFIED:20211021T121615Z
UID:1853-1634824800-1634828400@billchadwick.com
SUMMARY:Book Reading/Stand Up Comedy (Private Event) [Postponed]
DESCRIPTION:
URL:https://billchadwick.com/event/book-reading-stand-up-comedy-private-event/
LOCATION:Folkestone\, Wayzata\, Minnesota
CATEGORIES:Book Signings,Comedy
END:VEVENT
BEGIN:VEVENT
DTSTART;TZID=America/Chicago:20211017T100000
DTEND;TZID=America/Chicago:20211017T110000
DTSTAMP:20260423T175418
CREATED:20211016T002949Z
LAST-MODIFIED:20211016T002949Z
UID:1849-1634464800-1634468400@billchadwick.com
SUMMARY:Preaching (Virtual)
DESCRIPTION:The sermon topic is mental illness. The event is only virtual. \nZoom details: https://zoom.us/j/88990446224\nMeeting ID: 889 9044 6224
URL:https://billchadwick.com/event/preaching-virtual/
LOCATION:Presbyterian Church of the Apostles\, 701 E. 130th St.\, Burnsville\, MN\, 55337\, United States
CATEGORIES:Preaching
END:VEVENT
BEGIN:VEVENT
DTSTART;TZID=America/Chicago:20210917T103000
DTEND;TZID=America/Chicago:20210917T123000
DTSTAMP:20260423T175418
CREATED:20210815T170830Z
LAST-MODIFIED:20210815T170830Z
UID:1785-1631874600-1631881800@billchadwick.com
SUMMARY:Comedy and Book Signing
DESCRIPTION:
URL:https://billchadwick.com/event/comedy-and-book-signing-2/
LOCATION:Coon Rapids Service Center\, 11155 Robinson Drive\, Coon Rapids\, MN\, 55433\, United States
CATEGORIES:Book Signings,Comedy
END:VEVENT
BEGIN:VEVENT
DTSTART;TZID=America/Chicago:20210916T150000
DTEND;TZID=America/Chicago:20210916T160000
DTSTAMP:20260423T175418
CREATED:20210815T170535Z
LAST-MODIFIED:20210815T170535Z
UID:1782-1631804400-1631808000@billchadwick.com
SUMMARY:Comedy and Book Signing
DESCRIPTION:
URL:https://billchadwick.com/event/comedy-and-book-signing/
LOCATION:Stonecrest Presbyterian Home\, 8725 Promenade Lane\, Woodbury\, MN\, 55125\, United States
CATEGORIES:Book Signings,Comedy
END:VEVENT
BEGIN:VEVENT
DTSTART;TZID=America/Chicago:20210904T213000
DTEND;TZID=America/Chicago:20210904T233000
DTSTAMP:20260423T175418
CREATED:20210827T022604Z
LAST-MODIFIED:20210827T022604Z
UID:1819-1630791000-1630798200@billchadwick.com
SUMMARY:Funniest Person Contest
DESCRIPTION:I was notified that I have made the semifinals of Acme Comedy Club’s Funniest Person Contest. I will be onstage at 9:30pm. The event includes five of us amateurs and two professionals. Audience reaction counts for 1/3 of the score so I would love it if you would come and cheer wildly for me. \nIf I make the finals I will be onstage again on September 8 at 8pm. \nAdmission is $20.
URL:https://billchadwick.com/event/funniest-person-contest/
LOCATION:Acme Comedy Company\, 708 N 1st St\, Minneapolis\, MN\, 55401\, United States
CATEGORIES:Comedy
END:VEVENT
BEGIN:VEVENT
DTSTART;TZID=America/Chicago:20210819T200000
DTEND;TZID=America/Chicago:20210819T210000
DTSTAMP:20260423T175418
CREATED:20210818T013519Z
LAST-MODIFIED:20210818T013519Z
UID:1815-1629403200-1629406800@billchadwick.com
SUMMARY:Comedy
DESCRIPTION:Bill has a 5 minute gig at Sisyphus Brewing’s open mic Thursday August 19th at 8pm. They have some of the best open mics in town and is located immediately East of Dunwoody Institute and there is no charge for the show.
URL:https://billchadwick.com/event/comedy-2/
LOCATION:Sisyphus Brewing\, 712 Ontario Ave. W\, Minneapolis\, MN\, 55403\, United States
CATEGORIES:Comedy
END:VEVENT
BEGIN:VEVENT
DTSTART;TZID=America/Chicago:20200529T170000
DTEND;TZID=America/Chicago:20200531T170000
DTSTAMP:20260423T175418
CREATED:20200306T230332Z
LAST-MODIFIED:20200306T230332Z
UID:905-1590771600-1590944400@billchadwick.com
SUMMARY:Retreat Leadership
DESCRIPTION:Annual Men’s Retreat of First Presbyterian\, Stillwater.  Open to any men.  You do not need to be a member of the church. \n  \nWe will be using stories from my book and other sources\, as well as short videos\, as conversation starters.  Very low-key.  Lots of free time to enjoy the outdoors.
URL:https://billchadwick.com/event/retreat-leadership/
LOCATION:Oak Forest Retreat Center\, 2824 130th St.\, Frederic\, WI\, 54837
END:VEVENT
BEGIN:VEVENT
DTSTART;TZID=America/Chicago:20200517T183000
DTEND;TZID=America/Chicago:20200517T203000
DTSTAMP:20260423T175418
CREATED:20200306T225855Z
LAST-MODIFIED:20200306T225855Z
UID:903-1589740200-1589747400@billchadwick.com
SUMMARY:Comedy
DESCRIPTION:Pie and Talent Night
URL:https://billchadwick.com/event/comedy/
LOCATION:First Presbyterian Church of Stillwater\, 6201 Osgood Ave N\, Stillwater\, MN\, 55082\, United States
END:VEVENT
BEGIN:VEVENT
DTSTART;TZID=America/Chicago:20200428T110000
DTEND;TZID=America/Chicago:20200428T133000
DTSTAMP:20260423T175418
CREATED:20200306T225608Z
LAST-MODIFIED:20200306T225608Z
UID:901-1588071600-1588080600@billchadwick.com
SUMMARY:Rev'd Up Quarterly Event
DESCRIPTION:Private Event
URL:https://billchadwick.com/event/revd-up-quarterly-event/
LOCATION:MN
END:VEVENT
BEGIN:VEVENT
DTSTART;TZID=America/Chicago:20200423T114500
DTEND;TZID=America/Chicago:20200423T130000
DTSTAMP:20260423T175418
CREATED:20200306T225317Z
LAST-MODIFIED:20200306T225317Z
UID:898-1587642300-1587646800@billchadwick.com
SUMMARY:Rotary Speaker
DESCRIPTION:
URL:https://billchadwick.com/event/rotary-speaker/
LOCATION:Lowell Inn Event Center\, Stillwater\, MN\, 55082
END:VEVENT
BEGIN:VEVENT
DTSTART;TZID=America/Chicago:20200403T100000
DTEND;TZID=America/Chicago:20200403T120000
DTSTAMP:20260423T175418
CREATED:20200306T224750Z
LAST-MODIFIED:20200306T225003Z
UID:893-1585908000-1585915200@billchadwick.com
SUMMARY:Book Sales/Signings
DESCRIPTION:Private Event \n  \n 
URL:https://billchadwick.com/event/book-sales-signings/
LOCATION:Falcon Heights UCC\, Falcon Heights\, MN
END:VEVENT
BEGIN:VEVENT
DTSTART;TZID=America/Chicago:20200216T180000
DTEND;TZID=America/Chicago:20200216T200000
DTSTAMP:20260423T175418
CREATED:20200115T004454Z
LAST-MODIFIED:20200131T162227Z
UID:310-1581876000-1581883200@billchadwick.com
SUMMARY:Stand-Up Comedy in Shoreview
DESCRIPTION:Presbyterian Church of the Way is hosting a “Comedy Night” with me as the headliner.  (You get what you pay for.)  I will be able to do an extended set\, which will be fun for me at least.
URL:https://billchadwick.com/event/stand-up-comedy-in-shoreview/
LOCATION:Presbyterian Church of the Way\, 3382 Lexington Avenue North\, Shoreview\, MN\, 55126\, United States
CATEGORIES:Comedy
ATTACH;FMTTYPE=image/jpeg:https://billchadwick.com/wp-content/uploads/2019/12/IMG_3684-small.jpg
END:VEVENT
BEGIN:VEVENT
DTSTART;TZID=America/Chicago:20200216T155000
DTEND;TZID=America/Chicago:20200216T170000
DTSTAMP:20260423T175418
CREATED:20200115T012205Z
LAST-MODIFIED:20200115T012541Z
UID:315-1581868200-1581872400@billchadwick.com
SUMMARY:Book Signing in Bloomington
DESCRIPTION:Book signing and reading. Books will be available on site. Books are $18 each\, including tax. 5 or more are $16 each\, including tax. 10 or more are $15 each\, including tax. \nBill will also be leading worship at 3:00 PM.
URL:https://billchadwick.com/event/book-signing-in-bloomington/
LOCATION:Presbyterian Homes of Bloomington\, 9889 Penn Avenue South\, Bloomington\, MN\, 55431\, United States
CATEGORIES:Book Signings
ATTACH;FMTTYPE=image/jpeg:https://billchadwick.com/wp-content/uploads/2019/12/Bills-Launch-43.jpg
END:VEVENT
BEGIN:VEVENT
DTSTART;TZID=America/Chicago:20200212T203000
DTEND;TZID=America/Chicago:20200212T223000
DTSTAMP:20260423T175418
CREATED:20191205T124410Z
LAST-MODIFIED:20200527T165130Z
UID:262-1581539400-1581546600@billchadwick.com
SUMMARY:Stand Up at the Honey Lounge
DESCRIPTION:I will be performing stand-up as one of the featured performers at Honey Lounge\, in the lower level of the Ginger Hop Bar\, just across the river from downtown Minneapolis.  This is a monthly cabaret (mostly music) put on by Err\, “a Twin Cities artist collective hell-bent on championing emerging artists.  They throw art-filled parties and make party-filled art.”
URL:https://billchadwick.com/event/stand-up-at-the-honey-lounge/
LOCATION:Honey Lounge\, 205 E Hennepin Ave\, Minneapolis\, MN\, 55414\, United States
CATEGORIES:Comedy
END:VEVENT
BEGIN:VEVENT
DTSTART;TZID=America/Chicago:20200122T190000
DTEND;TZID=America/Chicago:20200122T200000
DTSTAMP:20260423T175418
CREATED:20191229T211253Z
LAST-MODIFIED:20191229T211253Z
UID:299-1579719600-1579723200@billchadwick.com
SUMMARY:Book Selling/Signing
DESCRIPTION:Brief reading at 7:15 p.m.
URL:https://billchadwick.com/event/book-selling-signing-2/
LOCATION:Chain of Lakes Presbyterian Church\, 10130 Davenport St. NE\, Blaine\, MN\, 55449-4776\, United States
CATEGORIES:Book Signings
END:VEVENT
BEGIN:VEVENT
DTSTART;TZID=America/Chicago:20200118T150000
DTEND;TZID=America/Chicago:20200118T170000
DTSTAMP:20260423T175418
CREATED:20191229T211053Z
LAST-MODIFIED:20191229T211053Z
UID:296-1579359600-1579366800@billchadwick.com
SUMMARY:Book Selling/Signing
DESCRIPTION:Brief reading at 3:30 p.m.
URL:https://billchadwick.com/event/book-selling-signing/
LOCATION:Chadwick Residence\, 16404 Norwood Lane\, Minnetonka\, MN\, 55345\, United States
CATEGORIES:Book Signings
END:VEVENT
BEGIN:VEVENT
DTSTART;TZID=America/Chicago:20200116T180000
DTEND;TZID=America/Chicago:20200116T200000
DTSTAMP:20260423T175418
CREATED:20191205T123602Z
LAST-MODIFIED:20200115T003920Z
UID:255-1579197600-1579204800@billchadwick.com
SUMMARY:Cancelled: Stand-Up Show at Dunn Bros
DESCRIPTION:We’re so sorry\, but Dunn Bros has cancelled all open mics until spring 2020.
URL:https://billchadwick.com/event/stand-up-show-at-dunn-bros/
LOCATION:Dunn Brothers Coffee (Linden Hills)\, 2814 W. 43rd St.\, Minneapolis\, MN\, 55410\, United States
CATEGORIES:Comedy
ATTACH;FMTTYPE=image/jpeg:https://billchadwick.com/wp-content/uploads/2019/12/IMG_3684-small.jpg
END:VEVENT
BEGIN:VEVENT
DTSTART;TZID=America/Chicago:20191208T040000
DTEND;TZID=America/Chicago:20191208T050000
DTSTAMP:20260423T175418
CREATED:20191128T015258Z
LAST-MODIFIED:20191128T015258Z
UID:155-1575777600-1575781200@billchadwick.com
SUMMARY:Book Signing
DESCRIPTION:
URL:https://billchadwick.com/event/book-signing-2/
LOCATION:Presbyterian Church of the Way\, 3382 Lexington Ave N\, Shoreview\, MN\, 55126\, United States
CATEGORIES:Book Signings
END:VEVENT
END:VCALENDAR