BEGIN:VCALENDAR
VERSION:2.0
PRODID:-//Bill Chadwick - ECPv6.15.20//NONSGML v1.0//EN
CALSCALE:GREGORIAN
METHOD:PUBLISH
X-ORIGINAL-URL:https://billchadwick.com
X-WR-CALDESC:Events for Bill Chadwick
REFRESH-INTERVAL;VALUE=DURATION:PT1H
X-Robots-Tag:noindex
X-PUBLISHED-TTL:PT1H
BEGIN:VTIMEZONE
TZID:America/Chicago
BEGIN:DAYLIGHT
TZOFFSETFROM:-0600
TZOFFSETTO:-0500
TZNAME:CDT
DTSTART:20230312T080000
END:DAYLIGHT
BEGIN:STANDARD
TZOFFSETFROM:-0500
TZOFFSETTO:-0600
TZNAME:CST
DTSTART:20231105T070000
END:STANDARD
BEGIN:DAYLIGHT
TZOFFSETFROM:-0600
TZOFFSETTO:-0500
TZNAME:CDT
DTSTART:20240310T080000
END:DAYLIGHT
BEGIN:STANDARD
TZOFFSETFROM:-0500
TZOFFSETTO:-0600
TZNAME:CST
DTSTART:20241103T070000
END:STANDARD
BEGIN:DAYLIGHT
TZOFFSETFROM:-0600
TZOFFSETTO:-0500
TZNAME:CDT
DTSTART:20250309T080000
END:DAYLIGHT
BEGIN:STANDARD
TZOFFSETFROM:-0500
TZOFFSETTO:-0600
TZNAME:CST
DTSTART:20251102T070000
END:STANDARD
END:VTIMEZONE
BEGIN:VEVENT
DTSTART;TZID=America/Chicago:20240605T200000
DTEND;TZID=America/Chicago:20240605T220000
DTSTAMP:20260424T135113
CREATED:20240518T005523Z
LAST-MODIFIED:20240529T020300Z
UID:2028-1717617600-1717624800@billchadwick.com
SUMMARY:Crooners Loons on the Lake All-Star Showcase
DESCRIPTION:I got called up to the major leagues. Each year Crooners holds its Loons on the Lake Comedy Contest with a first prize of $10\,000. This year almost 200 people sent in audition tapes. The top 40 get to participate in the contest. I came in 41st. Seriously. \nHowever\, someone dropped out\, so now I am in “the Show.” I will be in the contest on Wednesday\, June 5\, 8:00 PM. For some reason\, these tickets are only $10.00. I hope some of you will come out and laugh uproariously for me\, even if you don’t think I’m funny. In most comedy contests\, audience reaction is a big part of the score. \nhttps://www.loonsonthelake.com/event-details-registration/10k-preliminaries-heat-2-2 \nIn the unlikely event that I continue on in the contest\, the semi-finals are Friday\, June 7th at 8:30 pm. \nThe finals are Saturday June 8th at 9:00 pm.
URL:https://billchadwick.com/event/crooners-loons-on-the-lake-all-star-showcase/
LOCATION:Minneapolis\, MN\, 6161 Hwy 65 NE\, Minneapolis\, MN 55432\, USA\, Minneapolis\, MN\, 6161 Hwy 65 NE\, Minneapolis\, 55432
END:VEVENT
BEGIN:VEVENT
DTSTART;TZID=America/Chicago:20240607T173000
DTEND;TZID=America/Chicago:20240607T200000
DTSTAMP:20260424T135113
CREATED:20240529T020551Z
LAST-MODIFIED:20240529T020551Z
UID:2039-1717781400-1717790400@billchadwick.com
SUMMARY:All-American Showcase at Crooners
DESCRIPTION:They decided to let me stay in the Showcase as well. This is essentially the B-team\, but there will be very good comics. \n$15 tickets at loonsonthelake.com
URL:https://billchadwick.com/event/all-american-showcase-at-crooners/
LOCATION:Minneapolis\, MN\, 6161 Hwy 65 NE\, Minneapolis\, MN 55432\, USA\, Minneapolis\, MN\, 6161 Hwy 65 NE\, Minneapolis\, 55432
END:VEVENT
BEGIN:VEVENT
DTSTART;TZID=America/Chicago:20240607T200000
DTEND;TZID=America/Chicago:20240607T220000
DTSTAMP:20260424T135113
CREATED:20240606T061919Z
LAST-MODIFIED:20240606T061919Z
UID:2041-1717790400-1717797600@billchadwick.com
SUMMARY:Crooners Loons on the Lake All-star Semi finals
DESCRIPTION:I made into the semi-finals! Tickets are on sale at loonsonthelake.com for Friday June 7th at 8:30pm. \n 
URL:https://billchadwick.com/event/crooners-loons-on-the-lake-all-star-semi-finals/
LOCATION:Minneapolis\, MN\, 6161 Hwy 65 NE\, Minneapolis\, MN 55432\, USA\, Minneapolis\, MN\, 6161 Hwy 65 NE\, Minneapolis\, 55432
END:VEVENT
BEGIN:VEVENT
DTSTART;TZID=America/Chicago:20240615T180000
DTEND;TZID=America/Chicago:20240615T191500
DTSTAMP:20260424T135113
CREATED:20240415T001821Z
LAST-MODIFIED:20240428T004728Z
UID:2020-1718474400-1718478900@billchadwick.com
SUMMARY:A Solo Show of Storytelling and Stand-up in Stillwater on Saturday!
DESCRIPTION:A Solo Show of Storytelling and Stand-up in Stillwater on Saturday!\nPlace: First Presbyterian Church of Stillwater\, 6201 Osgood Avenue North\nTime: June 15th at 6 PM\nNo advance ticket required.\nCost: Freewill offering for Change Drivers\, which helps new Americans overcome\nthree barriers to employment: Driver’s License\, Vehicle Ownership and\nEquipment.
URL:https://billchadwick.com/event/a-solo-show-of-storytelling-and-stand-up-in-stillwater-on-saturday/
LOCATION:First Presbyterian Church of Stillwater\, 6201 Osgood Ave N\, Stillwater\, MN\, 55082\, United States
END:VEVENT
END:VCALENDAR