BEGIN:VCALENDAR
VERSION:2.0
PRODID:-//Bill Chadwick - ECPv6.15.20//NONSGML v1.0//EN
CALSCALE:GREGORIAN
METHOD:PUBLISH
X-ORIGINAL-URL:https://billchadwick.com
X-WR-CALDESC:Events for Bill Chadwick
REFRESH-INTERVAL;VALUE=DURATION:PT1H
X-Robots-Tag:noindex
X-PUBLISHED-TTL:PT1H
BEGIN:VTIMEZONE
TZID:America/Chicago
BEGIN:DAYLIGHT
TZOFFSETFROM:-0600
TZOFFSETTO:-0500
TZNAME:CDT
DTSTART:20240310T080000
END:DAYLIGHT
BEGIN:STANDARD
TZOFFSETFROM:-0500
TZOFFSETTO:-0600
TZNAME:CST
DTSTART:20241103T070000
END:STANDARD
BEGIN:DAYLIGHT
TZOFFSETFROM:-0600
TZOFFSETTO:-0500
TZNAME:CDT
DTSTART:20250309T080000
END:DAYLIGHT
BEGIN:STANDARD
TZOFFSETFROM:-0500
TZOFFSETTO:-0600
TZNAME:CST
DTSTART:20251102T070000
END:STANDARD
BEGIN:DAYLIGHT
TZOFFSETFROM:-0600
TZOFFSETTO:-0500
TZNAME:CDT
DTSTART:20260308T080000
END:DAYLIGHT
BEGIN:STANDARD
TZOFFSETFROM:-0500
TZOFFSETTO:-0600
TZNAME:CST
DTSTART:20261101T070000
END:STANDARD
END:VTIMEZONE
BEGIN:VEVENT
DTSTART;TZID=America/Chicago:20250302T083000
DTEND;TZID=America/Chicago:20250302T093000
DTSTAMP:20260424T023852
CREATED:20250202T233605Z
LAST-MODIFIED:20250202T233605Z
UID:2057-1740904200-1740907800@billchadwick.com
SUMMARY:Humor Sunday at Creekside UCC (previously named Mayflower Congregational Church)
DESCRIPTION:Sunday\, March 2. 8:30 (to 9:30) and 11:00 AM (to noon)                                                                                                                                      Mayflower Congregational Church (name is transitioning to Creekside UCC)                                                                                                               106 E. Diamond Lake Road\, Mpls\, 55419.\nEach year on the last Sunday before Lent\, Mayflower Church celebrates Humor Sunday. This year I will be using the sermon time to share stories from my career. (With all lack of humility\, I have to say that this is some of my best stuff.) In addition\, Mayflower/Creekside is a phenomenal congregation\, if anyone is looking for a church home. They have a long and powerful record of justice/peacemaking work. Their preachers are terrific (and I am very fussy)!
URL:https://billchadwick.com/event/humor-sunday-at-creekside-ucc-previously-named-mayflower-congregational-church/
LOCATION:Creekside UCC\, 106 E. Diamond Lake Road\, Minneapolis\, Minnesota\, 55419
END:VEVENT
BEGIN:VEVENT
DTSTART;TZID=America/Chicago:20250330T093000
DTEND;TZID=America/Chicago:20250330T103000
DTSTAMP:20260424T023852
CREATED:20250202T233814Z
LAST-MODIFIED:20250202T233814Z
UID:2060-1743327000-1743330600@billchadwick.com
SUMMARY:Taize Service at First Presbyterian Church of Stillwater
DESCRIPTION:Sunday\, March 30\, 9:30 AM (to 10:30) I will be preaching at First Presbyterian Church (FPC) of Stillwater\, 6201 Osgood Avenue N\, 55082. This will be a Taize Service (meditative\, quiet). This also is a tremendous congregation\, if any of you on the east side of the Cities is looking for a church home. \n  \nAdditional dates that I will be preaching at FPC (9:30 AM) on June 8 and 15\, and August 17 and 24.
URL:https://billchadwick.com/event/taize-service-at-first-presbyterian-church-of-stillwater/
LOCATION:First Presbyterian Church of Stillwater\, 6201 Osgood Ave N\, Stillwater\, MN\, 55082\, United States
END:VEVENT
END:VCALENDAR